BEGIN:VCALENDAR
VERSION:2.0
PRODID:-//Wir Falken - ECPv6.15.14//NONSGML v1.0//EN
CALSCALE:GREGORIAN
METHOD:PUBLISH
X-WR-CALNAME:Wir Falken
X-ORIGINAL-URL:https://www.falke-bergrath.de
X-WR-CALDESC:Veranstaltungen für Wir Falken
REFRESH-INTERVAL;VALUE=DURATION:PT1H
X-Robots-Tag:noindex
X-PUBLISHED-TTL:PT1H
BEGIN:VTIMEZONE
TZID:Europe/Berlin
BEGIN:DAYLIGHT
TZOFFSETFROM:+0100
TZOFFSETTO:+0200
TZNAME:CEST
DTSTART:20210328T010000
END:DAYLIGHT
BEGIN:STANDARD
TZOFFSETFROM:+0200
TZOFFSETTO:+0100
TZNAME:CET
DTSTART:20211031T010000
END:STANDARD
BEGIN:DAYLIGHT
TZOFFSETFROM:+0100
TZOFFSETTO:+0200
TZNAME:CEST
DTSTART:20220327T010000
END:DAYLIGHT
BEGIN:STANDARD
TZOFFSETFROM:+0200
TZOFFSETTO:+0100
TZNAME:CET
DTSTART:20221030T010000
END:STANDARD
BEGIN:DAYLIGHT
TZOFFSETFROM:+0100
TZOFFSETTO:+0200
TZNAME:CEST
DTSTART:20230326T010000
END:DAYLIGHT
BEGIN:STANDARD
TZOFFSETFROM:+0200
TZOFFSETTO:+0100
TZNAME:CET
DTSTART:20231029T010000
END:STANDARD
END:VTIMEZONE
BEGIN:VEVENT
DTSTART;TZID=Europe/Berlin:20220923T180000
DTEND;TZID=Europe/Berlin:20220923T233000
DTSTAMP:20260421T183237
CREATED:20220904T065505Z
LAST-MODIFIED:20220904T065505Z
UID:7959-1663956000-1663975800@www.falke-bergrath.de
SUMMARY:Oktoberfest
DESCRIPTION:Liebe Falken\, liebe Gönner und Freunde\,\n\n\nnach langer langer Zeit ohne jegliches Fest der Falken wollen wir in diesem Jahr endlich noch einmal richtig feiern.\n\n\nAm Freitag\, 23.09.2022 veranstalten wir ein Oktoberfest.\n\n\nDas passt auch genau zu den tollen sportlichen Erfolgen in den letzten Wochen.\n\n\nNach dem historischen ersten Stadtmeistertitel der 1. Mannschaft und dem wiederholten Erfolg der 1. Frauenmannschaft\, haben weiter die B\, D\, F und G Junioren den Stadtmeistertitel errungen.\n\n\n#WirFalken sind megastolz und wollen diese Mannschaften auf unserem Oktoberfest gebührend empfangen und feiern.\n\n\nWir würden uns riesig freuen\, euch alle begrüßen zu können.\n\n\nAlle weiteren Einzelheiten könnt ihr dem anhängenden Plakat entnehmen.\n\n\nDer Vorstand
URL:https://www.falke-bergrath.de/event/oktoberfest/
LOCATION:Willi-Bertram-Stadion\, Josef-Artz-Straße 36\, Eschweiler\, NRW\, 52249\, Deutschland
ATTACH;FMTTYPE=image/jpeg:https://www.falke-bergrath.de/wp-content/uploads/2022/09/Oktoberfest_2022.jpeg
END:VEVENT
END:VCALENDAR