BEGIN:VCALENDAR
VERSION:2.0
PRODID:-//Wir Falken - ECPv6.15.14//NONSGML v1.0//EN
CALSCALE:GREGORIAN
METHOD:PUBLISH
X-ORIGINAL-URL:https://www.falke-bergrath.de
X-WR-CALDESC:Veranstaltungen für Wir Falken
REFRESH-INTERVAL;VALUE=DURATION:PT1H
X-Robots-Tag:noindex
X-PUBLISHED-TTL:PT1H
BEGIN:VTIMEZONE
TZID:Europe/Berlin
BEGIN:DAYLIGHT
TZOFFSETFROM:+0100
TZOFFSETTO:+0200
TZNAME:CEST
DTSTART:20210328T010000
END:DAYLIGHT
BEGIN:STANDARD
TZOFFSETFROM:+0200
TZOFFSETTO:+0100
TZNAME:CET
DTSTART:20211031T010000
END:STANDARD
BEGIN:DAYLIGHT
TZOFFSETFROM:+0100
TZOFFSETTO:+0200
TZNAME:CEST
DTSTART:20220327T010000
END:DAYLIGHT
BEGIN:STANDARD
TZOFFSETFROM:+0200
TZOFFSETTO:+0100
TZNAME:CET
DTSTART:20221030T010000
END:STANDARD
BEGIN:DAYLIGHT
TZOFFSETFROM:+0100
TZOFFSETTO:+0200
TZNAME:CEST
DTSTART:20230326T010000
END:DAYLIGHT
BEGIN:STANDARD
TZOFFSETFROM:+0200
TZOFFSETTO:+0100
TZNAME:CET
DTSTART:20231029T010000
END:STANDARD
END:VTIMEZONE
BEGIN:VEVENT
DTSTART;TZID=Europe/Berlin:20220308T183000
DTEND;TZID=Europe/Berlin:20220308T200000
DTSTAMP:20260422T033101
CREATED:20220302T084411Z
LAST-MODIFIED:20220302T084411Z
UID:7743-1646764200-1646769600@www.falke-bergrath.de
SUMMARY:Vereinsjugendtag 2022
DESCRIPTION:
URL:https://www.falke-bergrath.de/event/vereinsjugendtag-2022/
LOCATION:Sporthalle Bergrath\, Weierstr. 13\, Eschweiler\, 52249\, Deutschland
END:VEVENT
BEGIN:VEVENT
DTSTART;TZID=Europe/Berlin:20220311T190000
DTEND;TZID=Europe/Berlin:20220311T220000
DTSTAMP:20260422T033101
CREATED:20211103T211105Z
LAST-MODIFIED:20220302T084136Z
UID:7586-1647025200-1647036000@www.falke-bergrath.de
SUMMARY:Jahreshauptversammlung 2022
DESCRIPTION:Liebe Sportfreundinnen\, liebe Sportfreunde\, \nhiermit laden wir Euch zur Jahreshauptversammlung des SV Falke Bergrath 1924 e.V. \nam Freitag\, den 11. März 2022 um 19:00 Uhr\nin die Aula der Gesamtschule Waldschule\, Friedrichstraße 12 \nsehr herzlich ein. \nNachdem im Jahr 2021 keine JHV wegen Corona stattfinden konnte\, freuen wir uns sehr\, dass es in diesem\nJahr wieder möglich ist eine JHV\, unter Einhaltung der derzeit gültigen Corona-Bestimmungen\, abzuhalten.\nUm für alle eine größtmögliche Sicherheit zu bieten haben wir uns entschlossen\, die JHV wegen eines\nbesser einzuhaltenden Sicherheitsabstandes\, in die Aula der Waldschule zu verlegen. \nTagesordnung: \n\nBegrüßung und Feststellung der Beschlussfähigkeit\nGenehmigung der Tagesordnung\nGedenken der verstorbenen Mitglieder\nJahresbericht 2020 (Broschüre)\nBerichte der Abteilungen\nEhrungen\nBericht des Geschäftsführers\nBericht des Kassierers\nBericht der Kassenprüfer\nEntlastung des Kassierers\nWahl des Versammlungsleiters\nEntlastung des Vorstands\nNeuwahlen des Vorstandes für die nächsten 2 Jahre\nBestätigung des Jugendleiters und der Abteilungsleiter\nWahl der Kassenprüfer\nAktueller Sachstand zum Umbau des Vereinsheimes 1.OG\nAusblick 2022-2024\nTeam Jubiläumsjahr 2024\nFörderverein\nVerschiedenes\n\nWir bitten um zahlreiches Erscheinen.\nEs gilt die 2G+ Regel \nMit sportlichen Grüßen\nDer Vorstand
URL:https://www.falke-bergrath.de/event/jahreshauptversammlung-2022/
LOCATION:Gesamtschule Waldschule\, Friedrichstraße 12\, Eschweiler\, 52249\, Deutschland
END:VEVENT
END:VCALENDAR