BEGIN:VCALENDAR
VERSION:2.0
PRODID:-//Wir Falken - ECPv6.15.14//NONSGML v1.0//EN
CALSCALE:GREGORIAN
METHOD:PUBLISH
X-ORIGINAL-URL:https://www.falke-bergrath.de
X-WR-CALDESC:Veranstaltungen für Wir Falken
REFRESH-INTERVAL;VALUE=DURATION:PT1H
X-Robots-Tag:noindex
X-PUBLISHED-TTL:PT1H
BEGIN:VTIMEZONE
TZID:Europe/Berlin
BEGIN:DAYLIGHT
TZOFFSETFROM:+0100
TZOFFSETTO:+0200
TZNAME:CEST
DTSTART:20190331T010000
END:DAYLIGHT
BEGIN:STANDARD
TZOFFSETFROM:+0200
TZOFFSETTO:+0100
TZNAME:CET
DTSTART:20191027T010000
END:STANDARD
BEGIN:DAYLIGHT
TZOFFSETFROM:+0100
TZOFFSETTO:+0200
TZNAME:CEST
DTSTART:20200329T010000
END:DAYLIGHT
BEGIN:STANDARD
TZOFFSETFROM:+0200
TZOFFSETTO:+0100
TZNAME:CET
DTSTART:20201025T010000
END:STANDARD
BEGIN:DAYLIGHT
TZOFFSETFROM:+0100
TZOFFSETTO:+0200
TZNAME:CEST
DTSTART:20210328T010000
END:DAYLIGHT
BEGIN:STANDARD
TZOFFSETFROM:+0200
TZOFFSETTO:+0100
TZNAME:CET
DTSTART:20211031T010000
END:STANDARD
END:VTIMEZONE
BEGIN:VEVENT
DTSTART;TZID=Europe/Berlin:20200208T160000
DTEND;TZID=Europe/Berlin:20200208T160000
DTSTAMP:20260425T150103
CREATED:20200115T205647Z
LAST-MODIFIED:20200115T210406Z
UID:6733-1581177600-1581177600@www.falke-bergrath.de
SUMMARY:Herrensitzung der KG Prinzengilde 1947 Eschweiler – Bergrath e.V.
DESCRIPTION:Liebe Karnevalsfreunde\, \ndie KG Prinzengilde 1947 Eschweiler – Bergrath e.V. veranstaltet ihre Herrensitzung am 08.02.2020 und ihre Große Sitzung am 15.02.2020.\nEin Programm\, das sich sehen lassen kann. Spitzenkräfte\, die Mann und Frau nicht verpassen sollte.\nWeitere Infos auf den anhängenden Plakaten. \nBei Interesse ruft an. Bei Abnahme von mehreren Karten machen wir euch ein Angebot. \nRuft an unter 02403 / 31901. \nDie KG Prinzengilde 1947 Eschweiler – Bergrath e.V.
URL:https://www.falke-bergrath.de/event/herrensitzung-der-kg-prinzengilde-1947-eschweiler-bergrath-e-v/
LOCATION:Festzelt Weierstraße\, Weierstraße\, Eschweiler\, 52249
END:VEVENT
BEGIN:VEVENT
DTSTART;TZID=Europe/Berlin:20200215T190000
DTEND;TZID=Europe/Berlin:20200215T190000
DTSTAMP:20260425T150103
CREATED:20200115T205936Z
LAST-MODIFIED:20200115T210707Z
UID:6736-1581793200-1581793200@www.falke-bergrath.de
SUMMARY:Große Sitzung der KG Prinzengilde 1947 Eschweiler – Bergrath e.V.
DESCRIPTION:Liebe Karnevalsfreunde\, \ndie KG Prinzengilde 1947 Eschweiler – Bergrath e.V. veranstaltet ihre Herrensitzung am 08.02.2020 und ihre Große Sitzung am 15.02.2020.\nEin Programm\, das sich sehen lassen kann. Spitzenkräfte\, die Mann und Frau nicht verpassen sollte.\nWeitere Infos auf den anhängenden Plakaten. \nBei Interesse ruft an. Bei Abnahme von mehreren Karten machen wir euch ein Angebot. \nRuft an unter 02403 / 31901. \nDie KG Prinzengilde 1947 Eschweiler – Bergrath e.V.
URL:https://www.falke-bergrath.de/event/grosse-sitzung-der-kg-prinzengilde-1947-eschweiler-bergrath-e-v/
LOCATION:Festzelt Weierstraße\, Weierstraße\, Eschweiler\, 52249
END:VEVENT
END:VCALENDAR