BEGIN:VCALENDAR
VERSION:2.0
PRODID:-//Wir Falken - ECPv6.15.14//NONSGML v1.0//EN
CALSCALE:GREGORIAN
METHOD:PUBLISH
X-ORIGINAL-URL:https://www.falke-bergrath.de
X-WR-CALDESC:Veranstaltungen für Wir Falken
REFRESH-INTERVAL;VALUE=DURATION:PT1H
X-Robots-Tag:noindex
X-PUBLISHED-TTL:PT1H
BEGIN:VTIMEZONE
TZID:Europe/Berlin
BEGIN:DAYLIGHT
TZOFFSETFROM:+0100
TZOFFSETTO:+0200
TZNAME:CEST
DTSTART:20180325T010000
END:DAYLIGHT
BEGIN:STANDARD
TZOFFSETFROM:+0200
TZOFFSETTO:+0100
TZNAME:CET
DTSTART:20181028T010000
END:STANDARD
BEGIN:DAYLIGHT
TZOFFSETFROM:+0100
TZOFFSETTO:+0200
TZNAME:CEST
DTSTART:20190331T010000
END:DAYLIGHT
BEGIN:STANDARD
TZOFFSETFROM:+0200
TZOFFSETTO:+0100
TZNAME:CET
DTSTART:20191027T010000
END:STANDARD
BEGIN:DAYLIGHT
TZOFFSETFROM:+0100
TZOFFSETTO:+0200
TZNAME:CEST
DTSTART:20200329T010000
END:DAYLIGHT
BEGIN:STANDARD
TZOFFSETFROM:+0200
TZOFFSETTO:+0100
TZNAME:CET
DTSTART:20201025T010000
END:STANDARD
END:VTIMEZONE
BEGIN:VEVENT
DTSTART;TZID=Europe/Berlin:20190907T100000
DTEND;TZID=Europe/Berlin:20190907T230000
DTSTAMP:20260425T215648
CREATED:20190205T193945Z
LAST-MODIFIED:20190826T200240Z
UID:5931-1567850400-1567897200@www.falke-bergrath.de
SUMMARY:Karneball
DESCRIPTION:Wir tun es schon wieder …! \nDer SV „Falke“ Bergrath 1924 e.V. und die KG Prinzengilde 1947 Eschweiler-Bergrath e.V. möchten am 7.September mit Euch\, unseren Mitgliedern\, Freunden\, Gönnern\, Karnevalsvereinen\, Fußballvereinen\, Hobbymannschaften und dem ganzen Dorf den 2. KarneBall feiern! \n7.September 2019; Beginn 11:00 Uhr\, Ende offen \nGeplant sind unter anderem: \n\ngroßes Turnier „Unser Dorf spielt Fußball“\nkulinarische Verwöhnung von der Kuchentheke über Grillspezialitäten zum gepflegten Bier\nmusikalische Überraschungen: CJ Steve\, Zone 7 (Street Kids)\, Brasselskapelle der Prinzengilde\nFußballdart\nSchalke 04 Kinderbagger\nHüpfburg\nKirmesbudenspiele\n\nWir freuen uns auf Euer zahlreiches Erscheinen!
URL:https://www.falke-bergrath.de/event/karneball/
LOCATION:Falken-Heim\, Josef-Artz-Straße 36\, Eschweiler\, 52249\, Deutschland
ATTACH;FMTTYPE=image/jpeg:https://www.falke-bergrath.de/wp-content/uploads/2019/02/Karneball_2019.jpg
END:VEVENT
END:VCALENDAR