BEGIN:VCALENDAR
VERSION:2.0
PRODID:-//Wir Falken - ECPv6.15.14//NONSGML v1.0//EN
CALSCALE:GREGORIAN
METHOD:PUBLISH
X-ORIGINAL-URL:https://www.falke-bergrath.de
X-WR-CALDESC:Veranstaltungen für Wir Falken
REFRESH-INTERVAL;VALUE=DURATION:PT1H
X-Robots-Tag:noindex
X-PUBLISHED-TTL:PT1H
BEGIN:VTIMEZONE
TZID:Europe/Berlin
BEGIN:DAYLIGHT
TZOFFSETFROM:+0100
TZOFFSETTO:+0200
TZNAME:CEST
DTSTART:20190331T010000
END:DAYLIGHT
BEGIN:STANDARD
TZOFFSETFROM:+0200
TZOFFSETTO:+0100
TZNAME:CET
DTSTART:20191027T010000
END:STANDARD
BEGIN:DAYLIGHT
TZOFFSETFROM:+0100
TZOFFSETTO:+0200
TZNAME:CEST
DTSTART:20200329T010000
END:DAYLIGHT
BEGIN:STANDARD
TZOFFSETFROM:+0200
TZOFFSETTO:+0100
TZNAME:CET
DTSTART:20201025T010000
END:STANDARD
BEGIN:DAYLIGHT
TZOFFSETFROM:+0100
TZOFFSETTO:+0200
TZNAME:CEST
DTSTART:20210328T010000
END:DAYLIGHT
BEGIN:STANDARD
TZOFFSETFROM:+0200
TZOFFSETTO:+0100
TZNAME:CET
DTSTART:20211031T010000
END:STANDARD
END:VTIMEZONE
BEGIN:VEVENT
DTSTART;TZID=Europe/Berlin:20200131T193000
DTEND;TZID=Europe/Berlin:20200131T213000
DTSTAMP:20260425T161657
CREATED:20191228T214940Z
LAST-MODIFIED:20200101T185333Z
UID:6717-1580499000-1580506200@www.falke-bergrath.de
SUMMARY:Jahreshauptversammlung
DESCRIPTION:Liebe Sportfreunde\,\nhiermit laden wir Euch zur Jahreshauptversammlung des SV Falke Bergrath 1924 e.V.\nam Freitag\, den 31. Januar 2020\num 19:30 Uhr\nin unser Vereinsheim\, Josef-Artz-Straße 36\nsehr herzlich ein. \nTagesordnung:\n1. Begrüßung und Feststellung der Beschlussfähigkeit\n2. Genehmigung der Tagesordnung\n3. Gedenken der verstorbenen Mitglieder\n4. Protokoll der letzten Jahreshauptversammlung\n5. Berichte der Abteilungen\n6. Ehrungen\n7. Bericht des Geschäftsführers\n8. Bericht des Kassierers\n9. Bericht der Kassenprüfer\n10. Entlastung des Kassierers\n11. Wahl des Versammlungsleiters\n12. Entlastung des Vorstands\n13. Neuwahlen des Vorstandes für die nächsten 2 Jahre\n14. Bestätigung des Jugendleiters und der Abteilungsleiter\n15. Wahl der Kassenprüfer\n16. Aktueller Stand der Heimrenovierung\n17. Ausblick 2020\n18. Verschiedenes \nWir bitten um zahlreiches Erscheinen. \nMit sportlichen Grüßen\nDer Vorstand
URL:https://www.falke-bergrath.de/event/jahreshauptversammlung-2/
LOCATION:Falken-Heim\, Josef-Artz-Straße 36\, Eschweiler\, 52249\, Deutschland
END:VEVENT
END:VCALENDAR